BEGIN:VCALENDAR
VERSION:2.0
PRODID:icalendar-ruby
CALSCALE:GREGORIAN
METHOD:PUBLISH
BEGIN:VEVENT
DTSTAMP:20260419T121046Z
UID:27-215977@abbypresbyterian.org
DTSTART:20260426T153000Z
DTEND:20260426T164500Z
CLASS:PUBLIC
CREATED:20260416T204514
DESCRIPTION:YOU ARE INVITED!!!\nJoin us as we gather in prayer and thanksgi
 ving for God’s creation\, seeking blessings on our land\, our work\, and
  our community.\n Sunday\, April 26\, 2026\n Service Time: 10:30 AM\n Loca
 tion: First Presbyterian Church\n305 W Elm Street Abbotsford\, Wisconsin 5
 4405\n Service Highlights:\n\nSpecial prayers for crops\, gardens\, and st
 ewardship of the earth\nScripture readings focused on creation and provisi
 on\nCommunity fellowship following the service\n\n“All good gifts around
  us are sent from heaven above.”\n Come celebrate faith\, renewal\, and 
 the beauty of God’s creation with us!\nAll are welcome! We hope you can 
 take a moment to pause and join us for prayer and reflection on this growi
 ng season. 
LAST-MODIFIED:20260416T204514
LOCATION:First Presbyterian Church 305 W Elm Street Abbotsford\, Wisconsin 
 54405
SUMMARY: ROGATION SUNDAY CHURCH SERVICE 
URL;VALUE=URI:https://www.abbypresbyterian.org/events/rogation-sunday-churc
 h-service/2026-04-26
ATTACH;FILENAME=rogation-sunday.png;FMTTYPE=image/png:https://dq5pwpg1q8ru0
 .cloudfront.net/2026/04/17/01/45/14/cf4dc43f-d94d-486a-8c2a-018fc29f7f07/r
 ogation-sunday.png
ATTACH;FILENAME=Rogation Sunday Invite-2026.pdf;FMTTYPE=application/pdf:htt
 ps://dq5pwpg1q8ru0.cloudfront.net/2026/04/17/01/43/04/d086f9c9-5945-427e-8
 e16-54a34e30e683/Rogation%20Sunday%20Invite-2026.pdf
END:VEVENT
END:VCALENDAR
