BEGIN:VCALENDAR
VERSION:2.0
PRODID:icalendar-ruby
CALSCALE:GREGORIAN
METHOD:PUBLISH
BEGIN:VEVENT
DTSTAMP:20260420T182251Z
UID:11-217848@abbypresbyterian.org
DTSTART:20260913T153000Z
DTEND:20260913T163000Z
CLASS:PUBLIC
CREATED:20260420T122420
DESCRIPTION:Sunday Worship Service
LAST-MODIFIED:20260420T122420
LOCATION:First Presbyterian Church of Abbotsford
SUMMARY:Sunday Worship Service
URL;VALUE=URI:https://www.abbypresbyterian.org/events/sunday-worship-servic
 e/2026-09-13
ATTACH;FILENAME=santuary-picture.jpg;FMTTYPE=image/jpeg:https://dq5pwpg1q8r
 u0.cloudfront.net/2025/09/10/19/04/08/433b830b-4a74-4ff8-9457-a88eb1bcea68
 /santuary-picture.jpg
END:VEVENT
END:VCALENDAR
