BEGIN:VCALENDAR
VERSION:2.0
PRODID:icalendar-ruby
CALSCALE:GREGORIAN
METHOD:PUBLISH
BEGIN:VEVENT
DTSTAMP:20260421T003233Z
UID:11-218024@abbypresbyterian.org
DTSTART:20261011T153000Z
DTEND:20261011T163000Z
CLASS:PUBLIC
CREATED:20260420T173509
DESCRIPTION:Sunday Worship Service
LAST-MODIFIED:20260420T173509
LOCATION:First Presbyterian Church of Abbotsford
SUMMARY:Sunday Worship Service
URL;VALUE=URI:https://www.abbypresbyterian.org/events/sunday-worship-servic
 e/2026-10-11
ATTACH;FILENAME=santuary-picture.jpg;FMTTYPE=image/jpeg:https://dq5pwpg1q8r
 u0.cloudfront.net/2025/09/10/19/04/08/433b830b-4a74-4ff8-9457-a88eb1bcea68
 /santuary-picture.jpg
END:VEVENT
END:VCALENDAR
