BEGIN:VCALENDAR
VERSION:2.0
PRODID:icalendar-ruby
CALSCALE:GREGORIAN
METHOD:PUBLISH
BEGIN:VEVENT
DTSTAMP:20260421T033117Z
UID:11-218112@abbypresbyterian.org
DTSTART:20261025T153000Z
DTEND:20261025T163000Z
CLASS:PUBLIC
CREATED:20260420T200942
DESCRIPTION:Sunday Worship Service
LAST-MODIFIED:20260420T200942
LOCATION:First Presbyterian Church of Abbotsford
SUMMARY:Sunday Worship Service
URL;VALUE=URI:https://www.abbypresbyterian.org/events/sunday-worship-servic
 e/2026-10-25
ATTACH;FILENAME=santuary-picture.jpg;FMTTYPE=image/jpeg:https://dq5pwpg1q8r
 u0.cloudfront.net/2025/09/10/19/04/08/433b830b-4a74-4ff8-9457-a88eb1bcea68
 /santuary-picture.jpg
END:VEVENT
END:VCALENDAR
